{
 "currentVersion": 11.4,
 "serviceDescription": "LT50460292010224EDC00",
 "name": "LT50460292010224EDC00",
 "description": "",
 "extent": {
  "xmin": 386384.9999999999,
  "ymin": 4829085,
  "xmax": 637214.9999999999,
  "ymax": 5048715,
  "spatialReference": {
   "wkid": 102547,
   "latestWkid": 6852
  }
 },
 "initialExtent": {
  "xmin": 386384.9999999999,
  "ymin": 4829085,
  "xmax": 637214.9999999999,
  "ymax": 5048715,
  "spatialReference": {
   "wkid": 102547,
   "latestWkid": 6852
  }
 },
 "fullExtent": {
  "xmin": 386384.9999999999,
  "ymin": 4829085,
  "xmax": 637214.9999999999,
  "ymax": 5048715,
  "spatialReference": {
   "wkid": 102547,
   "latestWkid": 6852
  }
 },
 "sortableFields": "",
 "bandCount": 3,
 "pixelType": "U8",
 "minValues": [],
 "maxValues": [],
 "meanValues": [],
 "stdvValues": [],
 "hasMultidimensions": false,
 "pixelSizeX": 30,
 "pixelSizeY": 30,
 "meanPixelSize": 30,
 "datasetFormat": "TIFF",
 "uncompressedSize": 183632643,
 "blockWidth": 256,
 "blockHeight": 256,
 "compressionType": "YCbCr JPEG",
 "bandNames": [
  "Band_1",
  "Band_2",
  "Band_3"
 ],
 "allowCopy": true,
 "allowAnalysis": true,
 "itemAccess": false,
 "inspectionCapabilities": "",
 "minPixelSize": 16.933367200067735,
 "maxPixelSize": 132291.9312505292,
 "copyrightText": "",
 "serviceDataType": "esriImageServiceDataTypeRGB",
 "serviceSourceType": "esriImageServiceSourceTypeDataset",
 "objectIdField": "",
 "fields": [],
 "capabilities": "Image,Metadata,Mensuration",
 "defaultMosaicMethod": "Center",
 "allowedMosaicMethods": "",
 "sortField": "",
 "sortValue": null,
 "sortAscending": true,
 "mosaicOperator": "First",
 "defaultCompressionQuality": 75,
 "defaultResamplingMethod": "Bilinear",
 "maxImageHeight": 4100,
 "maxImageWidth": 15000,
 "singleFusedMapCache": true,
 "tileInfo": {
  "rows": 256,
  "cols": 256,
  "dpi": 96,
  "format": "MIXED",
  "compressionQuality": 75,
  "origin": {
   "x": -36307900,
   "y": 42736400
  },
  "spatialReference": {
   "wkid": 102547,
   "latestWkid": 6852
  },
  "lods": [
   {
    "level": 0,
    "resolution": 132291.9312505292,
    "scale": 500000000
   },
   {
    "level": 1,
    "resolution": 66145.9656252646,
    "scale": 250000000
   },
   {
    "level": 2,
    "resolution": 33072.9828126323,
    "scale": 125000000
   },
   {
    "level": 3,
    "resolution": 16933.367200067736,
    "scale": 64000000
   },
   {
    "level": 4,
    "resolution": 8466.683600033868,
    "scale": 32000000
   },
   {
    "level": 5,
    "resolution": 4233.341800016934,
    "scale": 16000000
   },
   {
    "level": 6,
    "resolution": 2116.670900008467,
    "scale": 8000000
   },
   {
    "level": 7,
    "resolution": 1058.3354500042335,
    "scale": 4000000
   },
   {
    "level": 8,
    "resolution": 529.1677250021168,
    "scale": 2000000
   },
   {
    "level": 9,
    "resolution": 264.5838625010584,
    "scale": 1000000
   },
   {
    "level": 10,
    "resolution": 132.2919312505292,
    "scale": 500000
   },
   {
    "level": 11,
    "resolution": 66.1459656252646,
    "scale": 250000
   },
   {
    "level": 12,
    "resolution": 33.0729828126323,
    "scale": 125000
   },
   {
    "level": 13,
    "resolution": 16.933367200067735,
    "scale": 64000
   }
  ]
 },
 "storageInfo": {
  "storageFormat": "esriMapCacheStorageModeCompactV2",
  "packetSize": 128
 },
 "cacheType": "Map",
 "allowRasterFunction": true,
 "rasterFunctionInfos": [
  {
   "name": "None",
   "description": "",
   "help": ""
  }
 ],
 "rasterTypeInfos": [
  {
   "name": "Raster Dataset",
   "description": "Supports all ArcGIS Raster Datasets",
   "help": ""
  }
 ],
 "mensurationCapabilities": "Basic",
 "hasHistograms": false,
 "hasColormap": false,
 "hasRasterAttributeTable": false,
 "minScale": 500000000,
 "maxScale": 64000,
 "minLOD": 0,
 "maxLOD": 13,
 "exportTilesAllowed": false,
 "supportsStatistics": false,
 "supportsAdvancedQueries": false,
 "editFieldsInfo": null,
 "ownershipBasedAccessControlForRasters": null,
 "allowComputeTiePoints": false,
 "useStandardizedQueries": true,
 "advancedQueryCapabilities": {
  "useStandardizedQueries": true,
  "supportsStatistics": false,
  "supportsOrderBy": false,
  "supportsDistinct": false,
  "supportsPagination": false
 },
 "spatialReference": {
  "wkid": 102547,
  "latestWkid": 6852
 }
}
